BEGIN:VCALENDAR
VERSION:2.0
PRODID:-//highdesertpartnership.org//NONSGML kigkonsult.se iCalcreator 2.30
 .10//
CALSCALE:GREGORIAN
METHOD:PUBLISH
UID:49dd6287-d1ac-450f-80d6-575d74bd1cdb
X-WR-CALDESC:
X-WR-RELCALID:deb10bc6b797206bafec97185e6a1849
X-WR-TIMEZONE:America/Los_Angeles
BEGIN:VTIMEZONE
TZID:America/Los_Angeles
BEGIN:STANDARD
TZNAME:PST
DTSTART:20231105T020000
TZOFFSETFROM:-0700
TZOFFSETTO:-0800
RDATE:20241103T020000
END:STANDARD
BEGIN:DAYLIGHT
TZNAME:PDT
DTSTART:20230312T020000
TZOFFSETFROM:-0800
TZOFFSETTO:-0700
RDATE:20240310T020000
RDATE:20250309T020000
END:DAYLIGHT
END:VTIMEZONE
BEGIN:VEVENT
UID:9085acb7-b649-477e-8b81-4913fa10a2de
DTSTAMP:20260420T133643Z
DESCRIPTION:
DTSTART;TZID=America/Los_Angeles:20231126T000000
DTEND;TZID=America/Los_Angeles:20231126T235900
LOCATION:
SUMMARY:Thanksgiving
END:VEVENT
END:VCALENDAR
