BEGIN:VCALENDAR
VERSION:2.0
PRODID:-//highdesertpartnership.org//NONSGML kigkonsult.se iCalcreator 2.30
 .10//
CALSCALE:GREGORIAN
METHOD:PUBLISH
UID:f9699cb5-7155-4fb0-86df-33f54e636a3b
X-WR-CALDESC:This is a gathering of this Southern Malheur Forest collaborat
 ive. This working group is finding solutions to improve the health and res
 ilience of Malheur National Forest while improving the economic and social
  conditions of Harney County. For this field trip meet at the Riley Store.
  For any questions contact Josh Hanson at josh@highdesertpartnership.org.
X-WR-RELCALID:70a4e6c791358c4c4e0d4f703ecd8881
X-WR-TIMEZONE:America/Los_Angeles
BEGIN:VTIMEZONE
TZID:America/Los_Angeles
BEGIN:STANDARD
TZNAME:PST
DTSTART:20221106T020000
TZOFFSETFROM:-0700
TZOFFSETTO:-0800
RDATE:20231105T020000
RDATE:20241103T020000
END:STANDARD
BEGIN:DAYLIGHT
TZNAME:PDT
DTSTART:20230312T020000
TZOFFSETFROM:-0800
TZOFFSETTO:-0700
RDATE:20240310T020000
END:DAYLIGHT
END:VTIMEZONE
BEGIN:VEVENT
UID:5b9d6ce5-4846-4944-9a64-3dbcde71e500
DTSTAMP:20260420T183731Z
DESCRIPTION:This is a gathering of this Southern Malheur Forest collaborati
 ve. This working group is finding solutions to improve the health and resi
 lience of Malheur National Forest while improving the economic and social 
 conditions of Harney County. For this field trip meet at the Riley Store. 
 For any questions contact Josh Hanson at josh@highdesertpartnership.org.
DTSTART;TZID=America/Los_Angeles:20230824T090000
DTEND;TZID=America/Los_Angeles:20230824T160000
LOCATION:Harney County based field trip
SUMMARY:Harney County Forest Restoration Collaborative Field Trip
END:VEVENT
END:VCALENDAR
