BEGIN:VCALENDAR
VERSION:2.0
PRODID:-//highdesertpartnership.org//NONSGML kigkonsult.se iCalcreator 2.30
 .10//
CALSCALE:GREGORIAN
METHOD:PUBLISH
UID:75887490-df08-4347-a603-995f296fa386
X-WR-CALDESC:A field tour to some Juniper sites to discuss roadside fuels f
 ollowed by a dinner at Crane High School. The public is always welcome. Co
 ntact Josh Hanson at josh@highdesertpartnership.org for details about this
  tour.
X-WR-RELCALID:34a43fc95218c561871929f1d590ef1c
X-WR-TIMEZONE:America/Los_Angeles
BEGIN:VTIMEZONE
TZID:America/Los_Angeles
BEGIN:STANDARD
TZNAME:PST
DTSTART:20221106T020000
TZOFFSETFROM:-0700
TZOFFSETTO:-0800
RDATE:20231105T020000
RDATE:20241103T020000
END:STANDARD
BEGIN:DAYLIGHT
TZNAME:PDT
DTSTART:20230312T020000
TZOFFSETFROM:-0800
TZOFFSETTO:-0700
RDATE:20240310T020000
END:DAYLIGHT
END:VTIMEZONE
BEGIN:VEVENT
UID:e670e651-591e-4694-9ee4-a0c5fd2ddc4e
DTSTAMP:20260420T203147Z
DESCRIPTION:A field tour to some Juniper sites to discuss roadside fuels fo
 llowed by a dinner at Crane High School. The public is always welcome. Con
 tact Josh Hanson at josh@highdesertpartnership.org for details about this 
 tour.
DTSTART;TZID=America/Los_Angeles:20230718T130000
DTEND;TZID=America/Los_Angeles:20230718T193000
LOCATION:Stinkingwater Mountains region of Southeast Oregon
SUMMARY:Harney County Wildfire Collaborative Range Tour
END:VEVENT
END:VCALENDAR
