BEGIN:VCALENDAR
VERSION:2.0
PRODID:-//highdesertpartnership.org//NONSGML kigkonsult.se iCalcreator 2.30
 .10//
CALSCALE:GREGORIAN
METHOD:PUBLISH
UID:034d89b9-2a7a-4442-8249-190661013055
X-WR-CALDESC:This is a meeting of this Malheur Forest collaborative. This w
 orking group is finding solutions to improve the health and resilience of 
 Malheur National Forest while improving the economic and social conditions
  of Harney County. This is a virtual meeting and the public is always welc
 ome to attend part or all of the day's meeting. For call in information co
 ntact Forest & Range Ecological Coordinator Josh Hanson at josh@highdesert
 partnership.org.
X-WR-RELCALID:164a0d0edeca47ba2a30c8d6899af6b9
X-WR-TIMEZONE:America/Los_Angeles
BEGIN:VTIMEZONE
TZID:America/Los_Angeles
BEGIN:STANDARD
TZNAME:PST
DTSTART:20221106T020000
TZOFFSETFROM:-0700
TZOFFSETTO:-0800
RDATE:20231105T020000
RDATE:20241103T020000
END:STANDARD
BEGIN:DAYLIGHT
TZNAME:PDT
DTSTART:20230312T020000
TZOFFSETFROM:-0800
TZOFFSETTO:-0700
RDATE:20240310T020000
END:DAYLIGHT
END:VTIMEZONE
BEGIN:VEVENT
UID:985810c7-d2e2-4098-8a17-4af143ec49fe
DTSTAMP:20260420T222337Z
DESCRIPTION:This is a meeting of this Malheur Forest collaborative. This wo
 rking group is finding solutions to improve the health and resilience of M
 alheur National Forest while improving the economic and social conditions 
 of Harney County. This is a virtual meeting and the public is always welco
 me to attend part or all of the day's meeting. For call in information con
 tact Forest & Range Ecological Coordinator Josh Hanson at josh@highdesertp
 artnership.org.
DTSTART;TZID=America/Los_Angeles:20230607T150000
DTEND;TZID=America/Los_Angeles:20230607T170000
LOCATION:Virtual
SUMMARY:Harney County Forest Restoration Collaborative Meeting
END:VEVENT
END:VCALENDAR
