BEGIN:VCALENDAR
VERSION:2.0
PRODID:-//highdesertpartnership.org//NONSGML kigkonsult.se iCalcreator 2.30
 .10//
CALSCALE:GREGORIAN
METHOD:PUBLISH
UID:e0cda559-e201-40fc-8904-2e4a6dfb0da2
X-WR-CALDESC:This is a meeting of this Malheur Forest collaborative. This w
 orking group is finding solutions to improve the health and resilience of 
 Malheur National Forest while improving the economic and social conditions
  of Harney County. This is a virtual meeting and the public is always welc
 ome to attend part or all of the day's meeting. For call in information co
 ntact Forest & Range Ecological Coordinator Josh Hanson at josh@highdesert
 partnership.org.
X-WR-RELCALID:ce4d614ba65a21508e291a4525a6c7a8
X-WR-TIMEZONE:America/Los_Angeles
BEGIN:VTIMEZONE
TZID:America/Los_Angeles
BEGIN:STANDARD
TZNAME:PST
DTSTART:20221106T020000
TZOFFSETFROM:-0700
TZOFFSETTO:-0800
RDATE:20231105T020000
RDATE:20241103T020000
END:STANDARD
BEGIN:DAYLIGHT
TZNAME:PDT
DTSTART:20230312T020000
TZOFFSETFROM:-0800
TZOFFSETTO:-0700
RDATE:20240310T020000
END:DAYLIGHT
END:VTIMEZONE
BEGIN:VEVENT
UID:8cf9ecbd-7062-4486-88e3-8735ebcdd977
DTSTAMP:20260421T002448Z
DESCRIPTION:This is a meeting of this Malheur Forest collaborative. This wo
 rking group is finding solutions to improve the health and resilience of M
 alheur National Forest while improving the economic and social conditions 
 of Harney County. This is a virtual meeting and the public is always welco
 me to attend part or all of the day's meeting. For call in information con
 tact Forest & Range Ecological Coordinator Josh Hanson at josh@highdesertp
 artnership.org.
DTSTART;TZID=America/Los_Angeles:20230510T160000
DTEND;TZID=America/Los_Angeles:20230510T180000
LOCATION:Virtual
SUMMARY:Harney County Forest Restoration Collaborative Meeting
END:VEVENT
END:VCALENDAR
