BEGIN:VCALENDAR
VERSION:2.0
PRODID:-//highdesertpartnership.org//NONSGML kigkonsult.se iCalcreator 2.30
 .10//
CALSCALE:GREGORIAN
METHOD:PUBLISH
UID:6b7a59db-84dc-400c-96fb-3f364e7e87d9
X-WR-CALDESC:This is a meeting of this Harney Basin Wetlands Collaborative.
  This group is finding solutions for the ecological and economic challenge
 s that face land and water management in the Harney Basin. Land and water 
 in Harney Basin has continental significance for migratory birds on the Pa
 cific Flyway and is one of the foundations for traditional agricultural ec
 onomies in Harney County. The public is always welcome to attend some or a
 ll of the meeting. Contact Melissa Petschauer at melissa@highdesertpartner
 ship.org with any questions.
X-WR-RELCALID:5e84f0f9731afc376c35a980f722d6cc
X-WR-TIMEZONE:America/Los_Angeles
BEGIN:VTIMEZONE
TZID:America/Los_Angeles
BEGIN:STANDARD
TZNAME:PST
DTSTART:20221106T020000
TZOFFSETFROM:-0700
TZOFFSETTO:-0800
RDATE:20231105T020000
END:STANDARD
BEGIN:DAYLIGHT
TZNAME:PDT
DTSTART:20230312T020000
TZOFFSETFROM:-0800
TZOFFSETTO:-0700
RDATE:20240310T020000
END:DAYLIGHT
END:VTIMEZONE
BEGIN:VEVENT
UID:11d9f6b7-9043-4634-bb5e-04b5e7f4eb1c
DTSTAMP:20260421T002359Z
DESCRIPTION:This is a meeting of this Harney Basin Wetlands Collaborative. 
 This group is finding solutions for the ecological and economic challenges
  that face land and water management in the Harney Basin. Land and water i
 n Harney Basin has continental significance for migratory birds on the Pac
 ific Flyway and is one of the foundations for traditional agricultural eco
 nomies in Harney County. The public is always welcome to attend some or al
 l of the meeting. Contact Melissa Petschauer at melissa@highdesertpartners
 hip.org with any questions.
DTSTART;TZID=America/Los_Angeles:20230503T130000
DTEND;TZID=America/Los_Angeles:20230503T160000
LOCATION:Virtual via ZOOM and in person at the Harney County ESD building E
 SD building\, 25 Fairview Heights Loop\, Burns\, OR 97720
SUMMARY:Harney Basin Wetlands Collaborative Meeting
END:VEVENT
END:VCALENDAR
