BEGIN:VCALENDAR
VERSION:2.0
PRODID:-//highdesertpartnership.org//NONSGML kigkonsult.se iCalcreator 2.30
 .10//
CALSCALE:GREGORIAN
METHOD:PUBLISH
UID:8587689d-9e2c-4fda-9713-b400982b8b18
X-WR-CALDESC:Find details and festival events here: https://www.migratorybi
 rdfestival.com/.
X-WR-RELCALID:2ac8e5628541bbeec6413d367e62eb86
X-WR-TIMEZONE:America/Los_Angeles
BEGIN:VTIMEZONE
TZID:America/Los_Angeles
BEGIN:STANDARD
TZNAME:PST
DTSTART:20221106T020000
TZOFFSETFROM:-0700
TZOFFSETTO:-0800
RDATE:20231105T020000
END:STANDARD
BEGIN:DAYLIGHT
TZNAME:PDT
DTSTART:20230312T020000
TZOFFSETFROM:-0800
TZOFFSETTO:-0700
RDATE:20240310T020000
END:DAYLIGHT
END:VTIMEZONE
BEGIN:VEVENT
UID:8c428e6f-fca4-4f86-80be-f6ffe3a317f0
DTSTAMP:20260421T023158Z
DESCRIPTION:Find details and festival events here: https://www.migratorybir
 dfestival.com/.
DTSTART;TZID=America/Los_Angeles:20230413T000000
DTEND;TZID=America/Los_Angeles:20230416T235900
LOCATION:
SUMMARY:Harney County Migratory Bird Festival
END:VEVENT
END:VCALENDAR
