BEGIN:VCALENDAR
VERSION:2.0
PRODID:-//highdesertpartnership.org//NONSGML kigkonsult.se iCalcreator 2.30
 .10//
CALSCALE:GREGORIAN
METHOD:PUBLISH
UID:78fd23c3-e818-481a-8a0e-bdbb13dd195d
X-WR-CALDESC:A bimonthly meeting of the Youth Changing the Community Collab
 orative (YCTC). YCTC exists to engage the community in creating opportunit
 ies that enrich Harney County’s youth\, providing skills and motivation to
  prepare them for the future\, inspire self-worth\, instill civic pride\, 
 and promote a positive work ethic.
X-WR-RELCALID:b5ca12fe00520d26ddd2b47a0f8075e2
X-WR-TIMEZONE:America/Los_Angeles
BEGIN:VTIMEZONE
TZID:America/Los_Angeles
BEGIN:STANDARD
TZNAME:PST
DTSTART:20221106T020000
TZOFFSETFROM:-0700
TZOFFSETTO:-0800
RDATE:20231105T020000
END:STANDARD
BEGIN:DAYLIGHT
TZNAME:PDT
DTSTART:20230312T020000
TZOFFSETFROM:-0800
TZOFFSETTO:-0700
RDATE:20240310T020000
END:DAYLIGHT
END:VTIMEZONE
BEGIN:VEVENT
UID:ff5c0f26-3c4d-4157-9088-d4a3e7e3dff1
DTSTAMP:20260421T041807Z
DESCRIPTION:A bimonthly meeting of the Youth Changing the Community Collabo
 rative (YCTC). YCTC exists to engage the community in creating opportuniti
 es that enrich Harney County’s youth\, providing skills and motivation to 
 prepare them for the future\, inspire self-worth\, instill civic pride\, a
 nd promote a positive work ethic.
DTSTART;TZID=America/Los_Angeles:20230328T160000
DTEND;TZID=America/Los_Angeles:20230328T171500
LOCATION:
SUMMARY:Youth Changing the Community Collaborative Meeting
END:VEVENT
END:VCALENDAR
