BEGIN:VCALENDAR
VERSION:2.0
PRODID:-//highdesertpartnership.org//NONSGML kigkonsult.se iCalcreator 2.30
 .10//
CALSCALE:GREGORIAN
METHOD:PUBLISH
UID:d1c77e94-e1a9-4e1d-b9f7-cdc84f746cb4
X-WR-CALDESC:
X-WR-RELCALID:5968fcec2d65bb3d95e6b1c57e6169df
X-WR-TIMEZONE:America/Los_Angeles
BEGIN:VTIMEZONE
TZID:America/Los_Angeles
BEGIN:STANDARD
TZNAME:PST
DTSTART:20221106T020000
TZOFFSETFROM:-0700
TZOFFSETTO:-0800
RDATE:20231105T020000
END:STANDARD
BEGIN:DAYLIGHT
TZNAME:PDT
DTSTART:20230312T020000
TZOFFSETFROM:-0800
TZOFFSETTO:-0700
RDATE:20240310T020000
END:DAYLIGHT
END:VTIMEZONE
BEGIN:VEVENT
UID:939bcbd2-480e-41ed-8bd3-d6a55687a56a
DTSTAMP:20260421T042135Z
DESCRIPTION:
DTSTART;TZID=America/Los_Angeles:20230315T170000
DTEND;TZID=America/Los_Angeles:20230315T190000
LOCATION:High Desert Partnership
SUMMARY:High Desert Partnership Board Meeting
END:VEVENT
END:VCALENDAR
