BEGIN:VCALENDAR
VERSION:2.0
PRODID:-//highdesertpartnership.org//NONSGML kigkonsult.se iCalcreator 2.30
 .10//
CALSCALE:GREGORIAN
METHOD:PUBLISH
UID:bfccf0b0-8eaf-4da7-b65f-b1151d4d2a8b
X-WR-CALDESC:
X-WR-RELCALID:f1b1192efd5ada519caae3bafe2db703
X-WR-TIMEZONE:America/Los_Angeles
BEGIN:VTIMEZONE
TZID:America/Los_Angeles
BEGIN:STANDARD
TZNAME:PST
DTSTART:20221106T020000
TZOFFSETFROM:-0700
TZOFFSETTO:-0800
RDATE:20231105T020000
END:STANDARD
BEGIN:DAYLIGHT
TZNAME:PDT
DTSTART:20220313T020000
TZOFFSETFROM:-0800
TZOFFSETTO:-0700
RDATE:20230312T020000
RDATE:20240310T020000
END:DAYLIGHT
END:VTIMEZONE
BEGIN:VEVENT
UID:647aed72-0ca0-4b95-9f22-08c98d7a0c13
DTSTAMP:20260421T061354Z
DESCRIPTION:
DTSTART;TZID=America/Los_Angeles:20230215T170000
DTEND;TZID=America/Los_Angeles:20230215T190000
LOCATION:High Desert Partnership
SUMMARY:High Desert Partnership Board Meeting
END:VEVENT
END:VCALENDAR
