BEGIN:VCALENDAR
VERSION:2.0
PRODID:-//highdesertpartnership.org//NONSGML kigkonsult.se iCalcreator 2.30
 .10//
CALSCALE:GREGORIAN
METHOD:PUBLISH
UID:c12dfe9a-6e80-4339-b979-18d76cae8cf9
X-WR-CALDESC:This is a meeting of this southern Malheur Forest collaborativ
 e. This working group is finding solutions to improve the health and resil
 ience of southern Malheur National Forest while improving the economic and
  social conditions of Harney County. You can attend this meeting in person
  or virtually via Zoom and the public is always welcome to attend part or 
 all of the meeting. Contact Forest & Range Ecological Coordinator Josh Han
 son at josh@highdesertpartnership.org with any questions.
X-WR-RELCALID:44c3434d43ac19766fe09a695cd2d341
X-WR-TIMEZONE:America/Los_Angeles
BEGIN:VTIMEZONE
TZID:America/Los_Angeles
BEGIN:STANDARD
TZNAME:PST
DTSTART:20221106T020000
TZOFFSETFROM:-0700
TZOFFSETTO:-0800
RDATE:20231105T020000
END:STANDARD
BEGIN:DAYLIGHT
TZNAME:PDT
DTSTART:20220313T020000
TZOFFSETFROM:-0800
TZOFFSETTO:-0700
RDATE:20230312T020000
RDATE:20240310T020000
END:DAYLIGHT
END:VTIMEZONE
BEGIN:VEVENT
UID:1771a953-ab52-4b7f-a7b3-bb8c80d9773d
DTSTAMP:20260421T081440Z
DESCRIPTION:This is a meeting of this southern Malheur Forest collaborative
 . This working group is finding solutions to improve the health and resili
 ence of southern Malheur National Forest while improving the economic and 
 social conditions of Harney County. You can attend this meeting in person 
 or virtually via Zoom and the public is always welcome to attend part or a
 ll of the meeting. Contact Forest & Range Ecological Coordinator Josh Hans
 on at josh@highdesertpartnership.org with any questions.
DTSTART;TZID=America/Los_Angeles:20230117T160000
DTEND;TZID=America/Los_Angeles:20230117T190000
LOCATION:In person at Central Hotel and virtual via ZOOM
SUMMARY:Harney County Forest Restoration Collaborative Meeting
END:VEVENT
END:VCALENDAR
