BEGIN:VCALENDAR
VERSION:2.0
PRODID:-//highdesertpartnership.org//NONSGML kigkonsult.se iCalcreator 2.30
 .10//
CALSCALE:GREGORIAN
METHOD:PUBLISH
UID:8482c8d1-2cce-4630-9235-ec07e9c86831
X-WR-CALDESC:
X-WR-RELCALID:0e6fa3ce6efadbcfd2497b834baf4b8a
X-WR-TIMEZONE:America/Los_Angeles
BEGIN:VTIMEZONE
TZID:America/Los_Angeles
BEGIN:STANDARD
TZNAME:PST
DTSTART:20221106T020000
TZOFFSETFROM:-0700
TZOFFSETTO:-0800
RDATE:20231105T020000
END:STANDARD
BEGIN:DAYLIGHT
TZNAME:PDT
DTSTART:20220313T020000
TZOFFSETFROM:-0800
TZOFFSETTO:-0700
RDATE:20230312T020000
RDATE:20240310T020000
END:DAYLIGHT
END:VTIMEZONE
BEGIN:VEVENT
UID:2c8d3588-019c-4a79-9991-c94892f9afd5
DTSTAMP:20260421T095156Z
DESCRIPTION:
DTSTART;TZID=America/Los_Angeles:20221231T000000
DTEND;TZID=America/Los_Angeles:20221231T235900
LOCATION:
SUMMARY:New Year's Eve
END:VEVENT
END:VCALENDAR
