BEGIN:VCALENDAR
VERSION:2.0
PRODID:-//highdesertpartnership.org//NONSGML kigkonsult.se iCalcreator 2.30
 .10//
CALSCALE:GREGORIAN
METHOD:PUBLISH
UID:9f1a27fa-809d-4981-ac11-b96b4e263161
X-WR-CALDESC:
X-WR-RELCALID:75dc6d46e5fd32987687c3083764ed4d
X-WR-TIMEZONE:America/Los_Angeles
BEGIN:VTIMEZONE
TZID:America/Los_Angeles
BEGIN:STANDARD
TZNAME:PST
DTSTART:20221106T020000
TZOFFSETFROM:-0700
TZOFFSETTO:-0800
RDATE:20231105T020000
END:STANDARD
BEGIN:DAYLIGHT
TZNAME:PDT
DTSTART:20220313T020000
TZOFFSETFROM:-0800
TZOFFSETTO:-0700
RDATE:20230312T020000
RDATE:20240310T020000
END:DAYLIGHT
END:VTIMEZONE
BEGIN:VEVENT
UID:2a5f8a50-dac1-46e1-996b-865f078b007b
DTSTAMP:20260421T094649Z
DESCRIPTION:
DTSTART;TZID=America/Los_Angeles:20221225T000000
DTEND;TZID=America/Los_Angeles:20221225T235900
LOCATION:
SUMMARY:Christmas
END:VEVENT
END:VCALENDAR
