BEGIN:VCALENDAR
VERSION:2.0
PRODID:-//highdesertpartnership.org//NONSGML kigkonsult.se iCalcreator 2.30
 .10//
CALSCALE:GREGORIAN
METHOD:PUBLISH
UID:2feaa9f2-f07b-4edc-b22e-fed4bc0bb758
X-WR-CALDESC:
X-WR-RELCALID:59b0d45a2982ccefb9fd86c6610a297f
X-WR-TIMEZONE:America/Los_Angeles
BEGIN:VTIMEZONE
TZID:America/Los_Angeles
BEGIN:STANDARD
TZNAME:PST
DTSTART:20221106T020000
TZOFFSETFROM:-0700
TZOFFSETTO:-0800
RDATE:20231105T020000
END:STANDARD
BEGIN:DAYLIGHT
TZNAME:PDT
DTSTART:20220313T020000
TZOFFSETFROM:-0800
TZOFFSETTO:-0700
RDATE:20230312T020000
RDATE:20240310T020000
END:DAYLIGHT
END:VTIMEZONE
BEGIN:VEVENT
UID:9e964be5-7c93-4b60-a13b-3492ea9e572d
DTSTAMP:20260421T114320Z
DESCRIPTION:
DTSTART;TZID=America/Los_Angeles:20221124T000000
DTEND;TZID=America/Los_Angeles:20221124T235900
LOCATION:
SUMMARY:Thanksgiving
END:VEVENT
END:VCALENDAR
