BEGIN:VCALENDAR
VERSION:2.0
PRODID:-//highdesertpartnership.org//NONSGML kigkonsult.se iCalcreator 2.30
 .10//
CALSCALE:GREGORIAN
METHOD:PUBLISH
UID:de933678-1c7b-488c-b19e-bf69d8b3d328
X-WR-CALDESC:A monthly meeting of the BizHarney Opportunity Collaborative. 
 BizHarney exists to help rural Harney County businesses start\, grow and s
 ucceed while also helping to build a thriving business environment. Govern
 ment and nonprofit entities along with Tribal economic development are sit
 ting at the same table finding solutions to improve Harney County's busine
 ss opportunity culture.
X-WR-RELCALID:0ecf1dda1fb8a84890633a215f793462
X-WR-TIMEZONE:America/Los_Angeles
BEGIN:VTIMEZONE
TZID:America/Los_Angeles
BEGIN:STANDARD
TZNAME:PST
DTSTART:20211107T020000
TZOFFSETFROM:-0700
TZOFFSETTO:-0800
RDATE:20221106T020000
RDATE:20231105T020000
END:STANDARD
BEGIN:DAYLIGHT
TZNAME:PDT
DTSTART:20220313T020000
TZOFFSETFROM:-0800
TZOFFSETTO:-0700
RDATE:20230312T020000
RDATE:20240310T020000
END:DAYLIGHT
END:VTIMEZONE
BEGIN:VEVENT
UID:f3d02984-1e10-4c2a-a072-495690617993
DTSTAMP:20260421T151743Z
DESCRIPTION:A monthly meeting of the BizHarney Opportunity Collaborative. B
 izHarney exists to help rural Harney County businesses start\, grow and su
 cceed while also helping to build a thriving business environment. Governm
 ent and nonprofit entities along with Tribal economic development are sitt
 ing at the same table finding solutions to improve Harney County's busines
 s opportunity culture.
DTSTART;TZID=America/Los_Angeles:20220927T120000
DTEND;TZID=America/Los_Angeles:20220927T133000
LOCATION:
SUMMARY:BizHarney Opportunity Collaborative Meeting
END:VEVENT
END:VCALENDAR
