BEGIN:VCALENDAR
VERSION:2.0
PRODID:-//highdesertpartnership.org//NONSGML kigkonsult.se iCalcreator 2.30
 .10//
CALSCALE:GREGORIAN
METHOD:PUBLISH
UID:af8a9132-f5ae-499a-8b52-51b73e5cbb3e
X-WR-CALDESC:The bimonthly meeting of this collaborative that is focused on
  reducing the potential for and impact of megafires in Harney County. The 
 public is always welcome. Contact Josh Hanson at josh@highdesertpartnershi
 p.org for call in information and meeting location for this meeting.
X-WR-RELCALID:0be7942b93f034962ea04a5f7ea4944a
X-WR-TIMEZONE:America/Los_Angeles
BEGIN:VTIMEZONE
TZID:America/Los_Angeles
BEGIN:STANDARD
TZNAME:PST
DTSTART:20211107T020000
TZOFFSETFROM:-0700
TZOFFSETTO:-0800
RDATE:20221106T020000
RDATE:20231105T020000
END:STANDARD
BEGIN:DAYLIGHT
TZNAME:PDT
DTSTART:20220313T020000
TZOFFSETFROM:-0800
TZOFFSETTO:-0700
RDATE:20230312T020000
RDATE:20240310T020000
END:DAYLIGHT
END:VTIMEZONE
BEGIN:VEVENT
UID:86fc1e02-0a23-4a9d-98ca-e0d0040461e4
DTSTAMP:20260421T152315Z
DESCRIPTION:The bimonthly meeting of this collaborative that is focused on 
 reducing the potential for and impact of megafires in Harney County. The p
 ublic is always welcome. Contact Josh Hanson at josh@highdesertpartnership
 .org for call in information and meeting location for this meeting.
DTSTART;TZID=America/Los_Angeles:20220920T090000
DTEND;TZID=America/Los_Angeles:20220920T120000
LOCATION:Hybrid: VIRTUAL via Zoom Conferencing as well as an in-person opti
 on
SUMMARY:Harney County Wildfire Collaborative Meeting
END:VEVENT
END:VCALENDAR
