BEGIN:VCALENDAR
VERSION:2.0
PRODID:-//highdesertpartnership.org//NONSGML kigkonsult.se iCalcreator 2.30
 .10//
CALSCALE:GREGORIAN
METHOD:PUBLISH
UID:5200d2d0-bf0e-444a-8c5e-c6433a964374
X-WR-CALDESC:
X-WR-RELCALID:e81adf6a4b99bc544b8066f6d5304241
X-WR-TIMEZONE:America/Los_Angeles
BEGIN:VTIMEZONE
TZID:America/Los_Angeles
BEGIN:STANDARD
TZNAME:PST
DTSTART:20211107T020000
TZOFFSETFROM:-0700
TZOFFSETTO:-0800
RDATE:20221106T020000
RDATE:20231105T020000
END:STANDARD
BEGIN:DAYLIGHT
TZNAME:PDT
DTSTART:20220313T020000
TZOFFSETFROM:-0800
TZOFFSETTO:-0700
RDATE:20230312T020000
END:DAYLIGHT
END:VTIMEZONE
BEGIN:VEVENT
UID:795a2570-e506-46f0-9a22-06ff0178c008
DTSTAMP:20260421T152355Z
DESCRIPTION:
DTSTART;TZID=America/Los_Angeles:20220907T000000
DTEND;TZID=America/Los_Angeles:20220911T235900
LOCATION:Harney County Fairgrounds
SUMMARY:Harney County Fair & Rodeo
END:VEVENT
END:VCALENDAR
