BEGIN:VCALENDAR
VERSION:2.0
PRODID:-//highdesertpartnership.org//NONSGML kigkonsult.se iCalcreator 2.30
 .10//
CALSCALE:GREGORIAN
METHOD:PUBLISH
UID:19fcad7d-1857-4654-8564-e60e3142d045
X-WR-CALDESC:This is a meeting of this Harney Basin Wetlands Collaborative.
  This group is finding solutions for the ecological and economic challenge
 s that face land and water management in the Harney Basin. Land and water 
 in Harney Basin has continental significance for migratory birds on the Pa
 cific Flyway and is one of the foundations for traditional agricultural ec
 onomies in Harney County. The public is always welcome to attend some or a
 ll of the meeting. Contact Melissa Petschauer at melissa@highdesertpartner
 ship.org with any questions.
X-WR-RELCALID:c6578cbf82bfb93dc234b70e9ac6c7ab
X-WR-TIMEZONE:America/Los_Angeles
BEGIN:VTIMEZONE
TZID:America/Los_Angeles
BEGIN:STANDARD
TZNAME:PST
DTSTART:20211107T020000
TZOFFSETFROM:-0700
TZOFFSETTO:-0800
RDATE:20221106T020000
RDATE:20231105T020000
END:STANDARD
BEGIN:DAYLIGHT
TZNAME:PDT
DTSTART:20220313T020000
TZOFFSETFROM:-0800
TZOFFSETTO:-0700
RDATE:20230312T020000
END:DAYLIGHT
END:VTIMEZONE
BEGIN:VEVENT
UID:1867f186-e015-4aa9-8c3d-92259279c9f5
DTSTAMP:20260421T164915Z
DESCRIPTION:This is a meeting of this Harney Basin Wetlands Collaborative. 
 This group is finding solutions for the ecological and economic challenges
  that face land and water management in the Harney Basin. Land and water i
 n Harney Basin has continental significance for migratory birds on the Pac
 ific Flyway and is one of the foundations for traditional agricultural eco
 nomies in Harney County. The public is always welcome to attend some or al
 l of the meeting. Contact Melissa Petschauer at melissa@highdesertpartners
 hip.org with any questions.
DTSTART;TZID=America/Los_Angeles:20220824T140000
DTEND;TZID=America/Los_Angeles:20220824T163000
LOCATION:
SUMMARY:Harney Basin Wetlands Collaborative Meeting
END:VEVENT
END:VCALENDAR
