BEGIN:VCALENDAR
VERSION:2.0
PRODID:-//highdesertpartnership.org//NONSGML kigkonsult.se iCalcreator 2.30
 .10//
CALSCALE:GREGORIAN
METHOD:PUBLISH
UID:937ea8d8-d305-41d5-9b87-86e1a453801c
X-WR-CALDESC:A field tour day for the Harney County Wildfire Collaborative 
 into the Stinkingwater Mountains region. Contact Josh Hanson at josh@highd
 esertpartnership.org for details for this meeting.
X-WR-RELCALID:a9846cebc173551dc500c993839eecba
X-WR-TIMEZONE:America/Los_Angeles
BEGIN:VTIMEZONE
TZID:America/Los_Angeles
BEGIN:STANDARD
TZNAME:PST
DTSTART:20211107T020000
TZOFFSETFROM:-0700
TZOFFSETTO:-0800
RDATE:20221106T020000
RDATE:20231105T020000
END:STANDARD
BEGIN:DAYLIGHT
TZNAME:PDT
DTSTART:20220313T020000
TZOFFSETFROM:-0800
TZOFFSETTO:-0700
RDATE:20230312T020000
END:DAYLIGHT
END:VTIMEZONE
BEGIN:VEVENT
UID:b880fcf3-8a7f-44f9-9c18-694ef9173073
DTSTAMP:20260421T183858Z
DESCRIPTION:A field tour day for the Harney County Wildfire Collaborative i
 nto the Stinkingwater Mountains region. Contact Josh Hanson at josh@highde
 sertpartnership.org for details for this meeting.
DTSTART;TZID=America/Los_Angeles:20220720T090000
DTEND;TZID=America/Los_Angeles:20220720T150000
LOCATION:Stinkingwater Mountains region of Southeast Oregon
SUMMARY:Harney County Wildfire Collaborative Range Tour
END:VEVENT
END:VCALENDAR
