BEGIN:VCALENDAR
VERSION:2.0
PRODID:-//highdesertpartnership.org//NONSGML kigkonsult.se iCalcreator 2.30
 .10//
CALSCALE:GREGORIAN
METHOD:PUBLISH
UID:fae440fa-a4af-4be1-8a36-c4d403f7ec39
X-WR-CALDESC:This is a gathering of this Southern Malheur Forest collaborat
 ive. This working group is finding solutions to improve the health and res
 ilience of Malheur National Forest while improving the economic and social
  conditions of Harney County. This is a field trip in the Emigrant Creek R
 anger District. For any questions contact Josh Hanson at josh@highdesertpa
 rtnership.org.
X-WR-RELCALID:f1774a2fead13327d59793469f6633a9
X-WR-TIMEZONE:America/Los_Angeles
BEGIN:VTIMEZONE
TZID:America/Los_Angeles
BEGIN:STANDARD
TZNAME:PST
DTSTART:20211107T020000
TZOFFSETFROM:-0700
TZOFFSETTO:-0800
RDATE:20221106T020000
RDATE:20231105T020000
END:STANDARD
BEGIN:DAYLIGHT
TZNAME:PDT
DTSTART:20220313T020000
TZOFFSETFROM:-0800
TZOFFSETTO:-0700
RDATE:20230312T020000
END:DAYLIGHT
END:VTIMEZONE
BEGIN:VEVENT
UID:a1b14d9d-8b41-44cd-bdb3-5bc4e6cd9c45
DTSTAMP:20260421T183838Z
DESCRIPTION:This is a gathering of this Southern Malheur Forest collaborati
 ve. This working group is finding solutions to improve the health and resi
 lience of Malheur National Forest while improving the economic and social 
 conditions of Harney County. This is a field trip in the Emigrant Creek Ra
 nger District. For any questions contact Josh Hanson at josh@highdesertpar
 tnership.org.
DTSTART;TZID=America/Los_Angeles:20220718T090000
DTEND;TZID=America/Los_Angeles:20220718T150000
LOCATION:Harney County based field trip
SUMMARY:Harney County Forest Restoration Collaborative Field Trip
END:VEVENT
END:VCALENDAR
