BEGIN:VCALENDAR
VERSION:2.0
PRODID:-//highdesertpartnership.org//NONSGML kigkonsult.se iCalcreator 2.30
 .10//
CALSCALE:GREGORIAN
METHOD:PUBLISH
UID:89c727e3-6948-4a93-89be-2c2480881c85
X-WR-CALDESC:This is a gathering of this Southern Malheur Forest collaborat
 ive. This working group is finding solutions to improve the health and res
 ilience of Malheur National Forest while improving the economic and social
  conditions of Harney County. This is a field trip to view and discuss asp
 en treatments and other treatments in the Emigrant Creek Ranger District. 
 For any questions contact Josh Hanson at josh@highdesertpartnership.org.
X-WR-RELCALID:18e79bfe00ff00550af8a4bdb03da09f
X-WR-TIMEZONE:America/Los_Angeles
BEGIN:VTIMEZONE
TZID:America/Los_Angeles
BEGIN:STANDARD
TZNAME:PST
DTSTART:20211107T020000
TZOFFSETFROM:-0700
TZOFFSETTO:-0800
RDATE:20221106T020000
RDATE:20231105T020000
END:STANDARD
BEGIN:DAYLIGHT
TZNAME:PDT
DTSTART:20220313T020000
TZOFFSETFROM:-0800
TZOFFSETTO:-0700
RDATE:20230312T020000
END:DAYLIGHT
END:VTIMEZONE
BEGIN:VEVENT
UID:2d910ee9-33aa-4965-a621-c73eb1f2731a
DTSTAMP:20260421T222508Z
DESCRIPTION:This is a gathering of this Southern Malheur Forest collaborati
 ve. This working group is finding solutions to improve the health and resi
 lience of Malheur National Forest while improving the economic and social 
 conditions of Harney County. This is a field trip to view and discuss aspe
 n treatments and other treatments in the Emigrant Creek Ranger District. F
 or any questions contact Josh Hanson at josh@highdesertpartnership.org.
DTSTART;TZID=America/Los_Angeles:20220531T090000
DTEND;TZID=America/Los_Angeles:20220531T150000
LOCATION:Harney County based field trip
SUMMARY:Harney County Forest Restoration Collaborative Field Trip (Copy)
END:VEVENT
END:VCALENDAR
