BEGIN:VCALENDAR
VERSION:2.0
PRODID:-//highdesertpartnership.org//NONSGML kigkonsult.se iCalcreator 2.30
 .10//
CALSCALE:GREGORIAN
METHOD:PUBLISH
UID:ecc1e6fe-eee5-401b-9631-1345e5a25a17
X-WR-CALDESC:This is a meeting of this Harney Basin Wetlands Collaborative.
  This group is finding solutions for the ecological and economic challenge
 s that face land and water management in the Harney Basin. Land and water 
 in Harney Basin has continental significance for migratory birds on the Pa
 cific Flyway and is one of the foundations for traditional agricultural ec
 onomies in Harney County. The public is always welcome to attend some or a
 ll of the meeting. Contact Melissa Petschauer at melissa@highdesertpartner
 ship.org with any questions.
X-WR-RELCALID:c6b6c9822c79fcb6a6aec893fbff7842
X-WR-TIMEZONE:America/Los_Angeles
BEGIN:VTIMEZONE
TZID:America/Los_Angeles
BEGIN:STANDARD
TZNAME:PST
DTSTART:20211107T020000
TZOFFSETFROM:-0700
TZOFFSETTO:-0800
RDATE:20221106T020000
END:STANDARD
BEGIN:DAYLIGHT
TZNAME:PDT
DTSTART:20220313T020000
TZOFFSETFROM:-0800
TZOFFSETTO:-0700
RDATE:20230312T020000
END:DAYLIGHT
END:VTIMEZONE
BEGIN:VEVENT
UID:0e438a2a-6d0a-474f-9e2b-42f64bfb41a2
DTSTAMP:20260421T234927Z
DESCRIPTION:This is a meeting of this Harney Basin Wetlands Collaborative. 
 This group is finding solutions for the ecological and economic challenges
  that face land and water management in the Harney Basin. Land and water i
 n Harney Basin has continental significance for migratory birds on the Pac
 ific Flyway and is one of the foundations for traditional agricultural eco
 nomies in Harney County. The public is always welcome to attend some or al
 l of the meeting. Contact Melissa Petschauer at melissa@highdesertpartners
 hip.org with any questions.
DTSTART;TZID=America/Los_Angeles:20220427T000000
DTEND;TZID=America/Los_Angeles:20220427T235900
LOCATION:
SUMMARY:Harney Basin Wetlands Collaborative Field Tour
END:VEVENT
END:VCALENDAR
