BEGIN:VCALENDAR
VERSION:2.0
PRODID:-//highdesertpartnership.org//NONSGML kigkonsult.se iCalcreator 2.30
 .10//
CALSCALE:GREGORIAN
METHOD:PUBLISH
UID:d4227613-cb50-46ab-bd79-8b89afd00c51
X-WR-CALDESC:Find details and festival events here: https://www.migratorybi
 rdfestival.com/.
X-WR-RELCALID:882f0956d0b7c0ede1493251789a804f
X-WR-TIMEZONE:America/Los_Angeles
BEGIN:VTIMEZONE
TZID:America/Los_Angeles
BEGIN:STANDARD
TZNAME:PST
DTSTART:20211107T020000
TZOFFSETFROM:-0700
TZOFFSETTO:-0800
RDATE:20221106T020000
END:STANDARD
BEGIN:DAYLIGHT
TZNAME:PDT
DTSTART:20220313T020000
TZOFFSETFROM:-0800
TZOFFSETTO:-0700
RDATE:20230312T020000
END:DAYLIGHT
END:VTIMEZONE
BEGIN:VEVENT
UID:7585f606-7d49-40bb-9829-f30f7037d044
DTSTAMP:20260421T234940Z
DESCRIPTION:Find details and festival events here: https://www.migratorybir
 dfestival.com/.
DTSTART;TZID=America/Los_Angeles:20220421T000000
DTEND;TZID=America/Los_Angeles:20220424T235900
LOCATION:
SUMMARY:Harney County Migratory Bird Festival
END:VEVENT
END:VCALENDAR
