BEGIN:VCALENDAR
VERSION:2.0
PRODID:-//highdesertpartnership.org//NONSGML kigkonsult.se iCalcreator 2.30
 .10//
CALSCALE:GREGORIAN
METHOD:PUBLISH
UID:1505419c-e9b4-40b3-9ae6-6c1c32371378
X-WR-CALDESC:
X-WR-RELCALID:92039988910f945266d2f443d7d5cddc
X-WR-TIMEZONE:America/Los_Angeles
BEGIN:VTIMEZONE
TZID:America/Los_Angeles
BEGIN:STANDARD
TZNAME:PST
DTSTART:20211107T020000
TZOFFSETFROM:-0700
TZOFFSETTO:-0800
RDATE:20221106T020000
END:STANDARD
BEGIN:DAYLIGHT
TZNAME:PDT
DTSTART:20220313T020000
TZOFFSETFROM:-0800
TZOFFSETTO:-0700
RDATE:20230312T020000
END:DAYLIGHT
END:VTIMEZONE
BEGIN:VEVENT
UID:f47f0957-251c-40ce-835e-df5ba5976787
DTSTAMP:20260421T234939Z
DESCRIPTION:
DTSTART;TZID=America/Los_Angeles:20220420T170000
DTEND;TZID=America/Los_Angeles:20220420T190000
LOCATION:
SUMMARY:High Desert Partnership Board Meeting
END:VEVENT
END:VCALENDAR
