BEGIN:VCALENDAR
VERSION:2.0
PRODID:-//highdesertpartnership.org//NONSGML kigkonsult.se iCalcreator 2.30
 .10//
CALSCALE:GREGORIAN
METHOD:PUBLISH
UID:7b66bacb-3e7e-4cca-9a2d-7c8d7ef43429
X-WR-CALDESC:
X-WR-RELCALID:86e8fa6e9a276ced5439f07fd5935e42
X-WR-TIMEZONE:America/Los_Angeles
BEGIN:VTIMEZONE
TZID:America/Los_Angeles
BEGIN:STANDARD
TZNAME:PST
DTSTART:20211107T020000
TZOFFSETFROM:-0700
TZOFFSETTO:-0800
RDATE:20221106T020000
END:STANDARD
BEGIN:DAYLIGHT
TZNAME:PDT
DTSTART:20210314T020000
TZOFFSETFROM:-0800
TZOFFSETTO:-0700
RDATE:20220313T020000
RDATE:20230312T020000
END:DAYLIGHT
END:VTIMEZONE
BEGIN:VEVENT
UID:7cc8d2ce-4cbe-486c-9016-f7fbbc90ace7
DTSTAMP:20260422T052112Z
DESCRIPTION:
DTSTART;TZID=America/Los_Angeles:20220119T170000
DTEND;TZID=America/Los_Angeles:20220119T190000
LOCATION:
SUMMARY:High Desert Partnership Board Meeting
END:VEVENT
END:VCALENDAR
