BEGIN:VCALENDAR
VERSION:2.0
PRODID:-//highdesertpartnership.org//NONSGML kigkonsult.se iCalcreator 2.30
 .10//
CALSCALE:GREGORIAN
METHOD:PUBLISH
UID:5ba720fc-6c7e-45c7-9500-f1dffca63459
X-WR-CALDESC:This is a meeting of this Malheur Forest collaborative. This w
 orking group is finding solutions to improve the health and resilience of 
 Malheur National Forest while improving the economic and social conditions
  of Harney County. This is a virtual meeting and the public is always welc
 ome to attend part or all of the day's meeting. For call in information co
 ntact Forest & Range Ecological Coordinator Josh Hanson at josh@highdesert
 partnership.org.
X-WR-RELCALID:35966d4e60aa371776e48d930ab1cbce
X-WR-TIMEZONE:America/Los_Angeles
BEGIN:VTIMEZONE
TZID:America/Los_Angeles
BEGIN:STANDARD
TZNAME:PST
DTSTART:20211107T020000
TZOFFSETFROM:-0700
TZOFFSETTO:-0800
RDATE:20221106T020000
END:STANDARD
BEGIN:DAYLIGHT
TZNAME:PDT
DTSTART:20210314T020000
TZOFFSETFROM:-0800
TZOFFSETTO:-0700
RDATE:20220313T020000
RDATE:20230312T020000
END:DAYLIGHT
END:VTIMEZONE
BEGIN:VEVENT
UID:d71c466f-4e9f-441c-a355-2857d4ca30ec
DTSTAMP:20260422T052050Z
DESCRIPTION:This is a meeting of this Malheur Forest collaborative. This wo
 rking group is finding solutions to improve the health and resilience of M
 alheur National Forest while improving the economic and social conditions 
 of Harney County. This is a virtual meeting and the public is always welco
 me to attend part or all of the day's meeting. For call in information con
 tact Forest & Range Ecological Coordinator Josh Hanson at josh@highdesertp
 artnership.org.
DTSTART;TZID=America/Los_Angeles:20220105T130000
DTEND;TZID=America/Los_Angeles:20220105T160000
LOCATION:Virtual
SUMMARY:Harney County Forest Restoration Collaborative Meeting
END:VEVENT
END:VCALENDAR
