BEGIN:VCALENDAR
VERSION:2.0
PRODID:-//highdesertpartnership.org//NONSGML kigkonsult.se iCalcreator 2.30
 .10//
CALSCALE:GREGORIAN
METHOD:PUBLISH
UID:c0f8a6fa-4d86-4d34-ad11-fe9ff530dc23
X-WR-CALDESC:
X-WR-RELCALID:6dd441c3f19f2982e6f2a912cf2d2f49
X-WR-TIMEZONE:America/Los_Angeles
BEGIN:VTIMEZONE
TZID:America/Los_Angeles
BEGIN:STANDARD
TZNAME:PST
DTSTART:20211107T020000
TZOFFSETFROM:-0700
TZOFFSETTO:-0800
RDATE:20221106T020000
END:STANDARD
BEGIN:DAYLIGHT
TZNAME:PDT
DTSTART:20210314T020000
TZOFFSETFROM:-0800
TZOFFSETTO:-0700
RDATE:20220313T020000
RDATE:20230312T020000
END:DAYLIGHT
END:VTIMEZONE
BEGIN:VEVENT
UID:e21b770f-da0b-4fed-9531-acb5ca0d4ab3
DTSTAMP:20260422T070627Z
DESCRIPTION:
DTSTART;TZID=America/Los_Angeles:20211231T000000
DTEND;TZID=America/Los_Angeles:20211231T235900
LOCATION:
SUMMARY:New Year's Eve
END:VEVENT
END:VCALENDAR
