BEGIN:VCALENDAR
VERSION:2.0
PRODID:-//highdesertpartnership.org//NONSGML kigkonsult.se iCalcreator 2.30
 .10//
CALSCALE:GREGORIAN
METHOD:PUBLISH
UID:7fd44e9a-af08-4835-90a7-9207b72de2f7
X-WR-CALDESC:
X-WR-RELCALID:e36b4a03e06e4b91b6a6b98537ea8e9a
X-WR-TIMEZONE:America/Los_Angeles
BEGIN:VTIMEZONE
TZID:America/Los_Angeles
BEGIN:STANDARD
TZNAME:PST
DTSTART:20211107T020000
TZOFFSETFROM:-0700
TZOFFSETTO:-0800
RDATE:20221106T020000
END:STANDARD
BEGIN:DAYLIGHT
TZNAME:PDT
DTSTART:20210314T020000
TZOFFSETFROM:-0800
TZOFFSETTO:-0700
RDATE:20220313T020000
RDATE:20230312T020000
END:DAYLIGHT
END:VTIMEZONE
BEGIN:VEVENT
UID:db94f2c7-9cfe-44b0-892f-2b110bbb93d2
DTSTAMP:20260422T070850Z
DESCRIPTION:
DTSTART;TZID=America/Los_Angeles:20211225T000000
DTEND;TZID=America/Los_Angeles:20211225T235900
LOCATION:
SUMMARY:Christmas
END:VEVENT
END:VCALENDAR
