BEGIN:VCALENDAR
VERSION:2.0
PRODID:-//highdesertpartnership.org//NONSGML kigkonsult.se iCalcreator 2.30
 .10//
CALSCALE:GREGORIAN
METHOD:PUBLISH
UID:2b3cfe74-a80d-4af9-907b-7acc28bea486
X-WR-CALDESC:
X-WR-RELCALID:3ee6b5bbbe9794e4a13c036e29b6c556
X-WR-TIMEZONE:America/Los_Angeles
BEGIN:VTIMEZONE
TZID:America/Los_Angeles
BEGIN:STANDARD
TZNAME:PST
DTSTART:20211107T020000
TZOFFSETFROM:-0700
TZOFFSETTO:-0800
RDATE:20221106T020000
END:STANDARD
BEGIN:DAYLIGHT
TZNAME:PDT
DTSTART:20210314T020000
TZOFFSETFROM:-0800
TZOFFSETTO:-0700
RDATE:20220313T020000
RDATE:20230312T020000
END:DAYLIGHT
END:VTIMEZONE
BEGIN:VEVENT
UID:3e62f957-a253-4287-8fbf-c09bb7f1fe58
DTSTAMP:20260422T070148Z
DESCRIPTION:
DTSTART;TZID=America/Los_Angeles:20211215T170000
DTEND;TZID=America/Los_Angeles:20211215T190000
LOCATION:
SUMMARY:High Desert Partnership Board Meeting
END:VEVENT
END:VCALENDAR
