BEGIN:VCALENDAR
VERSION:2.0
PRODID:-//highdesertpartnership.org//NONSGML kigkonsult.se iCalcreator 2.30
 .10//
CALSCALE:GREGORIAN
METHOD:PUBLISH
UID:608e149c-75de-428a-9f4e-901a8890b36c
X-WR-CALDESC:
X-WR-RELCALID:e2569d81a12b4a0d516da3f30003069e
X-WR-TIMEZONE:America/Los_Angeles
BEGIN:VTIMEZONE
TZID:America/Los_Angeles
BEGIN:STANDARD
TZNAME:PST
DTSTART:20211107T020000
TZOFFSETFROM:-0700
TZOFFSETTO:-0800
RDATE:20221106T020000
END:STANDARD
BEGIN:DAYLIGHT
TZNAME:PDT
DTSTART:20210314T020000
TZOFFSETFROM:-0800
TZOFFSETTO:-0700
RDATE:20220313T020000
RDATE:20230312T020000
END:DAYLIGHT
END:VTIMEZONE
BEGIN:VEVENT
UID:02067825-b9a3-4419-8833-f3b7905b6933
DTSTAMP:20260422T090640Z
DESCRIPTION:
DTSTART;TZID=America/Los_Angeles:20211125T000000
DTEND;TZID=America/Los_Angeles:20211125T235900
LOCATION:
SUMMARY:Thanksgiving
END:VEVENT
END:VCALENDAR
