BEGIN:VCALENDAR
VERSION:2.0
PRODID:-//highdesertpartnership.org//NONSGML kigkonsult.se iCalcreator 2.30
 .10//
CALSCALE:GREGORIAN
METHOD:PUBLISH
UID:b8b85215-29e0-44f7-afe2-72dfdde50fd7
X-WR-CALDESC:A monthly meeting of the BizHarney Opportunity Collaborative. 
 BizHarney exists to help rural Harney County businesses start\, grow and s
 ucceed while also helping to build a thriving business environment. Formed
  in 2017 BizHarney is responding to a resurgence of interest in homegrown 
 economic development and an increased willingness to work together for suc
 cess. Government and nonprofit entities along with Tribal economic develop
 ment are sitting at the same table finding solutions to improve Harney Cou
 nty's business opportunity culture.
X-WR-RELCALID:60f7155d1e590795e2a1551984edbba5
X-WR-TIMEZONE:America/Los_Angeles
BEGIN:VTIMEZONE
TZID:America/Los_Angeles
BEGIN:STANDARD
TZNAME:PST
DTSTART:20211107T020000
TZOFFSETFROM:-0700
TZOFFSETTO:-0800
RDATE:20221106T020000
END:STANDARD
BEGIN:DAYLIGHT
TZNAME:PDT
DTSTART:20210314T020000
TZOFFSETFROM:-0800
TZOFFSETTO:-0700
RDATE:20220313T020000
RDATE:20230312T020000
END:DAYLIGHT
END:VTIMEZONE
BEGIN:VEVENT
UID:1b518d51-5e2f-486e-a996-1f86796ad17e
DTSTAMP:20260422T092108Z
DESCRIPTION:A monthly meeting of the BizHarney Opportunity Collaborative. B
 izHarney exists to help rural Harney County businesses start\, grow and su
 cceed while also helping to build a thriving business environment. Formed 
 in 2017 BizHarney is responding to a resurgence of interest in homegrown e
 conomic development and an increased willingness to work together for succ
 ess. Government and nonprofit entities along with Tribal economic developm
 ent are sitting at the same table finding solutions to improve Harney Coun
 ty's business opportunity culture.
DTSTART;TZID=America/Los_Angeles:20211123T120000
DTEND;TZID=America/Los_Angeles:20211123T133000
LOCATION:
SUMMARY:BizHarney Opportunity Collaborative Meeting
END:VEVENT
END:VCALENDAR
