BEGIN:VCALENDAR
VERSION:2.0
PRODID:-//highdesertpartnership.org//NONSGML kigkonsult.se iCalcreator 2.30
 .10//
CALSCALE:GREGORIAN
METHOD:PUBLISH
UID:3ac57360-6e07-4e50-b70d-13bcf27baf7a
X-WR-CALDESC:
X-WR-RELCALID:49d02bc69f09fe8b162db5a1ce982f83
X-WR-TIMEZONE:America/Los_Angeles
BEGIN:VTIMEZONE
TZID:America/Los_Angeles
BEGIN:STANDARD
TZNAME:PST
DTSTART:20211107T020000
TZOFFSETFROM:-0700
TZOFFSETTO:-0800
RDATE:20221106T020000
END:STANDARD
BEGIN:DAYLIGHT
TZNAME:PDT
DTSTART:20210314T020000
TZOFFSETFROM:-0800
TZOFFSETTO:-0700
RDATE:20220313T020000
RDATE:20230312T020000
END:DAYLIGHT
END:VTIMEZONE
BEGIN:VEVENT
UID:73afc1a0-527f-4745-b79f-6db3e11c7d0b
DTSTAMP:20260420T105756Z
DESCRIPTION:
DTSTART;TZID=America/Los_Angeles:20211117T170000
DTEND;TZID=America/Los_Angeles:20211117T190000
LOCATION:
SUMMARY:High Desert Partnership Board Meeting
END:VEVENT
END:VCALENDAR
