BEGIN:VCALENDAR
VERSION:2.0
PRODID:-//highdesertpartnership.org//NONSGML kigkonsult.se iCalcreator 2.30
 .10//
CALSCALE:GREGORIAN
METHOD:PUBLISH
UID:1be0bdfc-7730-41bc-a4da-125054d8ad40
X-WR-CALDESC:
X-WR-RELCALID:bdca589a664230382696c19af8222aed
X-WR-TIMEZONE:America/Los_Angeles
BEGIN:VTIMEZONE
TZID:America/Los_Angeles
BEGIN:STANDARD
TZNAME:PST
DTSTART:20201101T020000
TZOFFSETFROM:-0700
TZOFFSETTO:-0800
RDATE:20211107T020000
RDATE:20221106T020000
END:STANDARD
BEGIN:DAYLIGHT
TZNAME:PDT
DTSTART:20210314T020000
TZOFFSETFROM:-0800
TZOFFSETTO:-0700
RDATE:20220313T020000
END:DAYLIGHT
END:VTIMEZONE
BEGIN:VEVENT
UID:699cf1cf-d28b-48ac-8dc9-67b3a243850f
DTSTAMP:20260420T111854Z
DESCRIPTION:
DTSTART;TZID=America/Los_Angeles:20210818T170000
DTEND;TZID=America/Los_Angeles:20210818T190000
LOCATION:
SUMMARY:High Desert Partnership Board Meeting
END:VEVENT
END:VCALENDAR
