BEGIN:VCALENDAR
VERSION:2.0
PRODID:-//highdesertpartnership.org//NONSGML kigkonsult.se iCalcreator 2.30
 .10//
CALSCALE:GREGORIAN
METHOD:PUBLISH
UID:b36da124-b334-42e5-9021-c7716c363dbb
X-WR-CALDESC:This is a gathering of this Malheur Forest collaborative. This
  group is finding solutions to improve the health and resilience of Malheu
 r National Forest while improving the economic and social conditions of Ha
 rney County. This is a field trip to view and discuss some spring 2021 pre
 scribed fire burns. For any questions contact Brenda Smith at director@hig
 hdesertpartnership.org.
X-WR-RELCALID:ffc7f39ccaa6ce5f3bc68cd352ec0fb1
X-WR-TIMEZONE:America/Los_Angeles
BEGIN:VTIMEZONE
TZID:America/Los_Angeles
BEGIN:STANDARD
TZNAME:PST
DTSTART:20201101T020000
TZOFFSETFROM:-0700
TZOFFSETTO:-0800
RDATE:20211107T020000
RDATE:20221106T020000
END:STANDARD
BEGIN:DAYLIGHT
TZNAME:PDT
DTSTART:20210314T020000
TZOFFSETFROM:-0800
TZOFFSETTO:-0700
RDATE:20220313T020000
END:DAYLIGHT
END:VTIMEZONE
BEGIN:VEVENT
UID:ed5e0d5e-6178-4360-a645-5f360844e0b5
DTSTAMP:20260420T095545Z
DESCRIPTION:This is a gathering of this Malheur Forest collaborative. This 
 group is finding solutions to improve the health and resilience of Malheur
  National Forest while improving the economic and social conditions of Har
 ney County. This is a field trip to view and discuss some spring 2021 pres
 cribed fire burns. For any questions contact Brenda Smith at director@high
 desertpartnership.org.
DTSTART;TZID=America/Los_Angeles:20210709T080000
DTEND;TZID=America/Los_Angeles:20210709T140000
LOCATION:Virtual
SUMMARY:Harney County Restoration Collaborative Field Trip
END:VEVENT
END:VCALENDAR
