BEGIN:VCALENDAR
VERSION:2.0
PRODID:-//highdesertpartnership.org//NONSGML kigkonsult.se iCalcreator 2.30
 .10//
CALSCALE:GREGORIAN
METHOD:PUBLISH
UID:d48ae53f-875d-4c6d-842f-aaa955dd6e96
X-WR-CALDESC:The bimonthly meeting of this collaborative that is focused on
  reducing the potential for and impact of megafires in Harney County. The 
 public is always welcome. Contact Ben Cate at ben@highdesertpartnership.or
 g for call in information for this meeting.
X-WR-RELCALID:9aeff553be1c56af3cee7ec44c572ee4
X-WR-TIMEZONE:America/Los_Angeles
BEGIN:VTIMEZONE
TZID:America/Los_Angeles
BEGIN:STANDARD
TZNAME:PST
DTSTART:20201101T020000
TZOFFSETFROM:-0700
TZOFFSETTO:-0800
RDATE:20211107T020000
RDATE:20221106T020000
END:STANDARD
BEGIN:DAYLIGHT
TZNAME:PDT
DTSTART:20210314T020000
TZOFFSETFROM:-0800
TZOFFSETTO:-0700
RDATE:20220313T020000
END:DAYLIGHT
END:VTIMEZONE
BEGIN:VEVENT
UID:df8bf8d3-1362-463b-9185-57755c9df408
DTSTAMP:20260420T060847Z
DESCRIPTION:The bimonthly meeting of this collaborative that is focused on 
 reducing the potential for and impact of megafires in Harney County. The p
 ublic is always welcome. Contact Ben Cate at ben@highdesertpartnership.org
  for call in information for this meeting.
DTSTART;TZID=America/Los_Angeles:20210520T090000
DTEND;TZID=America/Los_Angeles:20210520T120000
LOCATION:VIRTUAL
SUMMARY:Harney County Wildfire Collaborative Meeting
END:VEVENT
END:VCALENDAR
