BEGIN:VCALENDAR
VERSION:2.0
PRODID:-//highdesertpartnership.org//NONSGML kigkonsult.se iCalcreator 2.30
 .10//
CALSCALE:GREGORIAN
METHOD:PUBLISH
UID:289a527b-3b79-4895-aa6d-59f0a1791a73
X-WR-CALDESC:In light of the current COVID-19 situation and recommendations
  from the Oregon Governor's office all collaborative meetings are virtual 
 meetings rather than in person meetings. If you would like to attend this 
 meeting\, contact Ben Cate at ben@highdesertpartnership.org for call-in in
 formation.
X-WR-RELCALID:79d150ffc7168d2fa619f720b040e82f
X-WR-TIMEZONE:America/Los_Angeles
BEGIN:VTIMEZONE
TZID:America/Los_Angeles
BEGIN:STANDARD
TZNAME:PST
DTSTART:20201101T020000
TZOFFSETFROM:-0700
TZOFFSETTO:-0800
RDATE:20211107T020000
END:STANDARD
BEGIN:DAYLIGHT
TZNAME:PDT
DTSTART:20210314T020000
TZOFFSETFROM:-0800
TZOFFSETTO:-0700
RDATE:20220313T020000
END:DAYLIGHT
END:VTIMEZONE
BEGIN:VEVENT
UID:0e3c6bd9-50a6-44aa-93ad-362f04428f07
DTSTAMP:20260420T080303Z
DESCRIPTION:In light of the current COVID-19 situation and recommendations 
 from the Oregon Governor's office all collaborative meetings are virtual m
 eetings rather than in person meetings. If you would like to attend this m
 eeting\, contact Ben Cate at ben@highdesertpartnership.org for call-in inf
 ormation.
DTSTART;TZID=America/Los_Angeles:20210416T080000
DTEND;TZID=America/Los_Angeles:20210416T120000
LOCATION:VIRTUAL
SUMMARY:Harney Basin Wetlands Collaborative Meeting
END:VEVENT
END:VCALENDAR
