BEGIN:VCALENDAR
VERSION:2.0
PRODID:-//highdesertpartnership.org//NONSGML kigkonsult.se iCalcreator 2.30
 .10//
CALSCALE:GREGORIAN
METHOD:PUBLISH
UID:d9529627-b344-40cf-89bf-80c39b062dac
X-WR-CALDESC:This is a meeting of this Malheur Forest collaborative. This v
 olunteer group is finding solutions to improve the health and resilience o
 f Malheur National Forest while improving the economic and social conditio
 ns of Harney County. This is a virtual meeting and the public is always we
 lcome to attend part or all of the day's meeting. For call in information 
 contact Ben Cate at ben@highdesertpartnership.org.
X-WR-RELCALID:35409d2a624decd7791b085b8f81feee
X-WR-TIMEZONE:America/Los_Angeles
BEGIN:VTIMEZONE
TZID:America/Los_Angeles
BEGIN:STANDARD
TZNAME:PST
DTSTART:20201101T020000
TZOFFSETFROM:-0700
TZOFFSETTO:-0800
RDATE:20211107T020000
END:STANDARD
BEGIN:DAYLIGHT
TZNAME:PDT
DTSTART:20210314T020000
TZOFFSETFROM:-0800
TZOFFSETTO:-0700
RDATE:20220313T020000
END:DAYLIGHT
END:VTIMEZONE
BEGIN:VEVENT
UID:357b3594-425b-4d7e-8876-84b712d500a9
DTSTAMP:20260420T080745Z
DESCRIPTION:This is a meeting of this Malheur Forest collaborative. This vo
 lunteer group is finding solutions to improve the health and resilience of
  Malheur National Forest while improving the economic and social condition
 s of Harney County. This is a virtual meeting and the public is always wel
 come to attend part or all of the day's meeting. For call in information c
 ontact Ben Cate at ben@highdesertpartnership.org.
DTSTART;TZID=America/Los_Angeles:20210414T150000
DTEND;TZID=America/Los_Angeles:20210414T170000
LOCATION:Virtual
SUMMARY:Harney County Restoration Collaborative Meeting
END:VEVENT
END:VCALENDAR
