BEGIN:VCALENDAR
VERSION:2.0
PRODID:-//highdesertpartnership.org//NONSGML kigkonsult.se iCalcreator 2.30
 .10//
CALSCALE:GREGORIAN
METHOD:PUBLISH
UID:2838aa49-6abd-4cc3-9277-47ff8fe9cf58
X-WR-CALDESC:
X-WR-RELCALID:36cc8a7c52c394b8e7788dd14cd8edf1
X-WR-TIMEZONE:America/Los_Angeles
BEGIN:VTIMEZONE
TZID:America/Los_Angeles
BEGIN:STANDARD
TZNAME:PST
DTSTART:20201101T020000
TZOFFSETFROM:-0700
TZOFFSETTO:-0800
RDATE:20211107T020000
END:STANDARD
BEGIN:DAYLIGHT
TZNAME:PDT
DTSTART:20210314T020000
TZOFFSETFROM:-0800
TZOFFSETTO:-0700
RDATE:20220313T020000
END:DAYLIGHT
END:VTIMEZONE
BEGIN:VEVENT
UID:ae2859c7-e04e-4eb8-a49b-38baad3ce056
DTSTAMP:20260420T100547Z
DESCRIPTION:
DTSTART;TZID=America/Los_Angeles:20210317T170000
DTEND;TZID=America/Los_Angeles:20210317T190000
LOCATION:
SUMMARY:High Desert Partnership Board Meeting
END:VEVENT
END:VCALENDAR
