BEGIN:VCALENDAR
VERSION:2.0
PRODID:-//highdesertpartnership.org//NONSGML kigkonsult.se iCalcreator 2.30
 .10//
CALSCALE:GREGORIAN
METHOD:PUBLISH
UID:a21da3df-89e7-45e1-b8c6-88a1a6b370ab
X-WR-CALDESC:General topics of discussion for this meeting include: invento
 ry & monitoring program\, wet meadow management\, Malheur Lake restoration
  and management of the Blitzen Valley. There will be a lunch break from 12
 -1pm. \n\nContact Ben Cate at ben@highdesertpartnership.org for call in in
 formation for this virtual meeting.\n
X-WR-RELCALID:ce671b786a2d6d388ec202943cb622b5
X-WR-TIMEZONE:America/Los_Angeles
BEGIN:VTIMEZONE
TZID:America/Los_Angeles
BEGIN:STANDARD
TZNAME:PST
DTSTART:20201101T020000
TZOFFSETFROM:-0700
TZOFFSETTO:-0800
RDATE:20211107T020000
END:STANDARD
BEGIN:DAYLIGHT
TZNAME:PDT
DTSTART:20210314T020000
TZOFFSETFROM:-0800
TZOFFSETTO:-0700
RDATE:20220313T020000
END:DAYLIGHT
END:VTIMEZONE
BEGIN:VEVENT
UID:df9da86c-57fa-4998-afe5-ea2f009e8b0c
DTSTAMP:20260420T100655Z
DESCRIPTION:General topics of discussion for this meeting include: inventor
 y & monitoring program\, wet meadow management\, Malheur Lake restoration 
 and management of the Blitzen Valley. There will be a lunch break from 12-
 1pm. \n\nContact Ben Cate at ben@highdesertpartnership.org for call in inf
 ormation for this virtual meeting.\n
DTSTART;TZID=America/Los_Angeles:20210310T100000
DTEND;TZID=America/Los_Angeles:20210310T150000
LOCATION:VIRTUAL
SUMMARY:Malheur National Wildlife Refuge Comprehensive Conservation Plan Me
 eting
END:VEVENT
END:VCALENDAR
