BEGIN:VCALENDAR
VERSION:2.0
PRODID:-//highdesertpartnership.org//NONSGML kigkonsult.se iCalcreator 2.30
 .10//
CALSCALE:GREGORIAN
METHOD:PUBLISH
UID:f4439ff6-e8ab-4b82-8ad1-42d5a5099b1a
X-WR-CALDESC:
X-WR-RELCALID:c099b349f6f75d3b4626fab0fe398a0c
X-WR-TIMEZONE:America/Los_Angeles
BEGIN:VTIMEZONE
TZID:America/Los_Angeles
BEGIN:STANDARD
TZNAME:PST
DTSTART:20201101T020000
TZOFFSETFROM:-0700
TZOFFSETTO:-0800
RDATE:20211107T020000
END:STANDARD
BEGIN:DAYLIGHT
TZNAME:PDT
DTSTART:20200308T020000
TZOFFSETFROM:-0800
TZOFFSETTO:-0700
RDATE:20210314T020000
RDATE:20220313T020000
END:DAYLIGHT
END:VTIMEZONE
BEGIN:VEVENT
UID:89956770-edaf-4b6a-b41f-f6c7aa78af6c
DTSTAMP:20260420T150358Z
DESCRIPTION:
DTSTART;TZID=America/Los_Angeles:20201225T000000
DTEND;TZID=America/Los_Angeles:20201225T235900
LOCATION:
SUMMARY:Christmas
END:VEVENT
END:VCALENDAR
