BEGIN:VCALENDAR
VERSION:2.0
PRODID:-//highdesertpartnership.org//NONSGML kigkonsult.se iCalcreator 2.30
 .10//
CALSCALE:GREGORIAN
METHOD:PUBLISH
UID:2518be9f-1d04-4ea0-ba6a-62ef615acde2
X-WR-CALDESC:
X-WR-RELCALID:6d2393983a607d4c496ca0745b44e717
X-WR-TIMEZONE:America/Los_Angeles
BEGIN:VTIMEZONE
TZID:America/Los_Angeles
BEGIN:STANDARD
TZNAME:PST
DTSTART:20201101T020000
TZOFFSETFROM:-0700
TZOFFSETTO:-0800
RDATE:20211107T020000
END:STANDARD
BEGIN:DAYLIGHT
TZNAME:PDT
DTSTART:20200308T020000
TZOFFSETFROM:-0800
TZOFFSETTO:-0700
RDATE:20210314T020000
RDATE:20220313T020000
END:DAYLIGHT
END:VTIMEZONE
BEGIN:VEVENT
UID:87ab4a8c-bb41-4058-a3a4-e3b6b5a0c9e0
DTSTAMP:20260420T145058Z
DESCRIPTION:
DTSTART;TZID=America/Los_Angeles:20201224T000000
DTEND;TZID=America/Los_Angeles:20201224T235900
LOCATION:
SUMMARY:Christmas Eve
END:VEVENT
END:VCALENDAR
