BEGIN:VCALENDAR
VERSION:2.0
PRODID:-//highdesertpartnership.org//NONSGML kigkonsult.se iCalcreator 2.30
 .10//
CALSCALE:GREGORIAN
METHOD:PUBLISH
UID:95112a20-a742-4376-b4ba-0b2880683d7e
X-WR-CALDESC:Invasive annual grasses threaten millions of acres of sagebrus
 h rangelands across the west. This is day two of this two day workshop hos
 ted by the Harney County Wildfire Collaborative and Oregon SageCon Partner
 ship which will explore the barriers and opportunities for addressing inva
 sive annual grasses in Oregon and beyond the state.\n\nIn this workshop so
 me of the most pressing issues related to invasive annual grass management
  will be discussed\, including the connection between invasive annual gras
 ses and wildfire and what can be done to better address this threat.
X-WR-RELCALID:8657f2e019f7321731fb69be42e5145a
X-WR-TIMEZONE:America/Los_Angeles
BEGIN:VTIMEZONE
TZID:America/Los_Angeles
BEGIN:STANDARD
TZNAME:PST
DTSTART:20201101T020000
TZOFFSETFROM:-0700
TZOFFSETTO:-0800
RDATE:20211107T020000
END:STANDARD
BEGIN:DAYLIGHT
TZNAME:PDT
DTSTART:20200308T020000
TZOFFSETFROM:-0800
TZOFFSETTO:-0700
RDATE:20210314T020000
RDATE:20220313T020000
END:DAYLIGHT
END:VTIMEZONE
BEGIN:VEVENT
UID:9a5e664c-c1a6-43c9-94c5-f687ac0030dc
DTSTAMP:20260420T145058Z
DESCRIPTION:Invasive annual grasses threaten millions of acres of sagebrush
  rangelands across the west. This is day two of this two day workshop host
 ed by the Harney County Wildfire Collaborative and Oregon SageCon Partners
 hip which will explore the barriers and opportunities for addressing invas
 ive annual grasses in Oregon and beyond the state.\n\nIn this workshop som
 e of the most pressing issues related to invasive annual grass management 
 will be discussed\, including the connection between invasive annual grass
 es and wildfire and what can be done to better address this threat.
DTSTART;TZID=America/Los_Angeles:20201215T083000
DTEND;TZID=America/Los_Angeles:20201215T123000
LOCATION:VIRTUAL
SUMMARY:Invasive Annual Grass Workshop Day Two
END:VEVENT
END:VCALENDAR
