BEGIN:VCALENDAR
VERSION:2.0
PRODID:-//highdesertpartnership.org//NONSGML kigkonsult.se iCalcreator 2.30
 .10//
CALSCALE:GREGORIAN
METHOD:PUBLISH
UID:74f2f505-e712-4669-86ad-e7c1a0243c5f
X-WR-CALDESC:
X-WR-RELCALID:72dc8d3ce873ebebf87687817d462793
X-WR-TIMEZONE:America/Los_Angeles
BEGIN:VTIMEZONE
TZID:America/Los_Angeles
BEGIN:STANDARD
TZNAME:PST
DTSTART:20201101T020000
TZOFFSETFROM:-0700
TZOFFSETTO:-0800
RDATE:20211107T020000
END:STANDARD
BEGIN:DAYLIGHT
TZNAME:PDT
DTSTART:20200308T020000
TZOFFSETFROM:-0800
TZOFFSETTO:-0700
RDATE:20210314T020000
RDATE:20220313T020000
END:DAYLIGHT
END:VTIMEZONE
BEGIN:VEVENT
UID:4a557eb4-ceb8-41b7-b33e-79cc38d65bac
DTSTAMP:20260419T230729Z
DESCRIPTION:
DTSTART;TZID=America/Los_Angeles:20201126T000000
DTEND;TZID=America/Los_Angeles:20201126T235900
LOCATION:
SUMMARY:Thanksgiving
END:VEVENT
END:VCALENDAR
