BEGIN:VCALENDAR
VERSION:2.0
PRODID:-//highdesertpartnership.org//NONSGML kigkonsult.se iCalcreator 2.30
 .10//
CALSCALE:GREGORIAN
METHOD:PUBLISH
UID:85edbb0e-552a-44c6-877c-d0cc39b700f8
X-WR-CALDESC:The bimonthly meeting of this collaborative that is focused on
  reducing the potential for and impact of megafires in Harney County. The 
 public is always welcome to attend some or all of the meeting.
X-WR-RELCALID:84bbb62ef440fb6e1edaf1c644abdec2
X-WR-TIMEZONE:America/Los_Angeles
BEGIN:VTIMEZONE
TZID:America/Los_Angeles
BEGIN:STANDARD
TZNAME:PST
DTSTART:20201101T020000
TZOFFSETFROM:-0700
TZOFFSETTO:-0800
RDATE:20211107T020000
END:STANDARD
BEGIN:DAYLIGHT
TZNAME:PDT
DTSTART:20200308T020000
TZOFFSETFROM:-0800
TZOFFSETTO:-0700
RDATE:20210314T020000
RDATE:20220313T020000
END:DAYLIGHT
END:VTIMEZONE
BEGIN:VEVENT
UID:d3729726-a941-4a13-a019-299a26422679
DTSTAMP:20260420T165257Z
DESCRIPTION:The bimonthly meeting of this collaborative that is focused on 
 reducing the potential for and impact of megafires in Harney County. The p
 ublic is always welcome to attend some or all of the meeting.
DTSTART;TZID=America/Los_Angeles:20201119T093000
DTEND;TZID=America/Los_Angeles:20201119T143000
LOCATION:Harney County ESD
SUMMARY:Harney County Wildfire Collaborative Meeting
END:VEVENT
END:VCALENDAR
