BEGIN:VCALENDAR
VERSION:2.0
PRODID:-//highdesertpartnership.org//NONSGML kigkonsult.se iCalcreator 2.30
 .10//
CALSCALE:GREGORIAN
METHOD:PUBLISH
UID:99322005-7629-4cb5-a538-d3fd51cacf36
X-WR-CALDESC:This is a meeting of this Malheur Forest collaborative. This v
 olunteer group is finding solutions to improve the health and resilience o
 f Malheur National Forest while improving the economic and social conditio
 ns of Harney County. This is a virtual meeting and the public is always we
 lcome to attend part or all of the day's meeting. For call in information 
 contact Ben Cate at ben@highdesertpartnership.org.
X-WR-RELCALID:f4b750a05ac0db411bd1653a897896cb
X-WR-TIMEZONE:America/Los_Angeles
BEGIN:VTIMEZONE
TZID:America/Los_Angeles
BEGIN:STANDARD
TZNAME:PST
DTSTART:20201101T020000
TZOFFSETFROM:-0700
TZOFFSETTO:-0800
RDATE:20211107T020000
END:STANDARD
BEGIN:DAYLIGHT
TZNAME:PDT
DTSTART:20200308T020000
TZOFFSETFROM:-0800
TZOFFSETTO:-0700
RDATE:20210314T020000
RDATE:20220313T020000
END:DAYLIGHT
END:VTIMEZONE
BEGIN:VEVENT
UID:322f3e99-e6e1-4bbe-ae8a-089d2a7ec465
DTSTAMP:20260420T165005Z
DESCRIPTION:This is a meeting of this Malheur Forest collaborative. This vo
 lunteer group is finding solutions to improve the health and resilience of
  Malheur National Forest while improving the economic and social condition
 s of Harney County. This is a virtual meeting and the public is always wel
 come to attend part or all of the day's meeting. For call in information c
 ontact Ben Cate at ben@highdesertpartnership.org.
DTSTART;TZID=America/Los_Angeles:20201118T150000
DTEND;TZID=America/Los_Angeles:20201118T170000
LOCATION:Virtual
SUMMARY:Harney County Restoration Collaborative Meeting
END:VEVENT
END:VCALENDAR
