BEGIN:VCALENDAR
VERSION:2.0
PRODID:-//highdesertpartnership.org//NONSGML kigkonsult.se iCalcreator 2.30
 .10//
CALSCALE:GREGORIAN
METHOD:PUBLISH
UID:c08c069f-ce16-42be-93ea-82fb68c07f41
X-WR-CALDESC:
X-WR-RELCALID:cc0a9e65065a6a0b117cb7da9e73eb53
X-WR-TIMEZONE:America/Los_Angeles
BEGIN:VTIMEZONE
TZID:America/Los_Angeles
BEGIN:STANDARD
TZNAME:PST
DTSTART:20201101T020000
TZOFFSETFROM:-0700
TZOFFSETTO:-0800
RDATE:20211107T020000
END:STANDARD
BEGIN:DAYLIGHT
TZNAME:PDT
DTSTART:20200308T020000
TZOFFSETFROM:-0800
TZOFFSETTO:-0700
RDATE:20210314T020000
RDATE:20220313T020000
END:DAYLIGHT
END:VTIMEZONE
BEGIN:VEVENT
UID:cb0ec627-f425-4748-8d49-1724336974d8
DTSTAMP:20260420T165840Z
DESCRIPTION:
DTSTART;TZID=America/Los_Angeles:20201118T170000
DTEND;TZID=America/Los_Angeles:20201118T190000
LOCATION:
SUMMARY:High Desert Partnership Board Meeting
END:VEVENT
END:VCALENDAR
